BEGIN:VCALENDAR
VERSION:2.0
PRODID:-//Scuba Diving Classes New Jersey - ECPv6.15.15//NONSGML v1.0//EN
CALSCALE:GREGORIAN
METHOD:PUBLISH
X-ORIGINAL-URL:https://scubaguru.org
X-WR-CALDESC:Events for Scuba Diving Classes New Jersey
REFRESH-INTERVAL;VALUE=DURATION:PT1H
X-Robots-Tag:noindex
X-PUBLISHED-TTL:PT1H
BEGIN:VTIMEZONE
TZID:America/New_York
BEGIN:DAYLIGHT
TZOFFSETFROM:-0500
TZOFFSETTO:-0400
TZNAME:EDT
DTSTART:20210314T070000
END:DAYLIGHT
BEGIN:STANDARD
TZOFFSETFROM:-0400
TZOFFSETTO:-0500
TZNAME:EST
DTSTART:20211107T060000
END:STANDARD
BEGIN:DAYLIGHT
TZOFFSETFROM:-0500
TZOFFSETTO:-0400
TZNAME:EDT
DTSTART:20220313T070000
END:DAYLIGHT
BEGIN:STANDARD
TZOFFSETFROM:-0400
TZOFFSETTO:-0500
TZNAME:EST
DTSTART:20221106T060000
END:STANDARD
BEGIN:DAYLIGHT
TZOFFSETFROM:-0500
TZOFFSETTO:-0400
TZNAME:EDT
DTSTART:20230312T070000
END:DAYLIGHT
BEGIN:STANDARD
TZOFFSETFROM:-0400
TZOFFSETTO:-0500
TZNAME:EST
DTSTART:20231105T060000
END:STANDARD
END:VTIMEZONE
BEGIN:VEVENT
DTSTART;VALUE=DATE:20220401
DTEND;VALUE=DATE:20220402
DTSTAMP:20260425T215754
CREATED:20220210T202518Z
LAST-MODIFIED:20220227T211416Z
UID:12583-1648771200-1648857599@scubaguru.org
SUMMARY:Open Water Diver Class Part 1-Pool and Academics
DESCRIPTION:COVID VACCINATED Instructor \nTake the Open Water Diver Class (Part 1)  which is your pool session and academic theory class. Pool session will be done first thing in the morning beginning at 7am at our public pools indoors and 9am at our private pools outdoors and your academic theory will be done online before the pool session date with a scheduled Zoom session review and exam. You will not have to leave the comfort of your own couch to do your academic theory.This is the most popular course on the planet! \nOur classes are deliberately small (no more than 4 people). We do this to increase the learning capacity and student to instructor ratio. You will not be subjected to large quantities of students and mass confusion. \nCOVID-19 Social Distancing and Sanitation Regulations: Because our classes are deliberately small\, we are able to space out our students in the pool to minimize exposure and keep our students safe. Our gear is sanitized after every pool session according to CDC guidelines. Our student’s safety is our top priority. \nWe get you done with part 1 (pool and academics) in just one day!  Some places take two days or drag it out over the course of a month where you have to attend one night a week. This is exhausting and time-consuming. We will not put you through this torture. \n \n 
URL:https://scubaguru.org/nj-padi-scuba-class/open-water-diver-class-part-1-pool-and-academics-apr-1-2022/
LOCATION:Raritan Valley Communty College\, 118 Lamington Rd\, Branchburg\, NJ\, 08876\, United States
CATEGORIES:NJ PADI Non Professional,Scuba Diving Classes
ATTACH;FMTTYPE=image/jpeg:/scuba-media/2019/08/padi-pool-class-featured-image.jpg
ORGANIZER;CN="Guru Staff":MAILTO:info@scubaguru.org
END:VEVENT
BEGIN:VEVENT
DTSTART;VALUE=DATE:20220408
DTEND;VALUE=DATE:20220409
DTSTAMP:20260425T215754
CREATED:20220210T202942Z
LAST-MODIFIED:20220313T195659Z
UID:12585-1649376000-1649462399@scubaguru.org
SUMMARY:Open Water Diver Class Part 1-Pool and Academics
DESCRIPTION:COVID VACCINATED Instructor \nTake the Open Water Diver Class (Part 1)  which is your pool session and academic theory class. Pool session will be done first thing in the morning beginning at 7am at our public pools indoors and 9am at our private pools outdoors and your academic theory will be done online before the pool session date with a scheduled Zoom session review and exam. You will not have to leave the comfort of your own couch to do your academic theory.This is the most popular course on the planet! \nOur classes are deliberately small (no more than 4 people). We do this to increase the learning capacity and student to instructor ratio. You will not be subjected to large quantities of students and mass confusion. \nCOVID-19 Social Distancing and Sanitation Regulations: Because our classes are deliberately small\, we are able to space out our students in the pool to minimize exposure and keep our students safe. Our gear is sanitized after every pool session according to CDC guidelines. Our student’s safety is our top priority. \nWe get you done with part 1 (pool and academics) in just one day!  Some places take two days or drag it out over the course of a month where you have to attend one night a week. This is exhausting and time-consuming. We will not put you through this torture. \n \n 
URL:https://scubaguru.org/nj-padi-scuba-class/open-water-diver-class-part-1-pool-and-academics-apr-8-2022/
LOCATION:Raritan Valley Communty College\, 118 Lamington Rd\, Branchburg\, NJ\, 08876\, United States
CATEGORIES:NJ PADI Non Professional,Scuba Diving Classes
ATTACH;FMTTYPE=image/jpeg:/scuba-media/2019/08/padi-pool-class-featured-image.jpg
ORGANIZER;CN="Guru Staff":MAILTO:info@scubaguru.org
END:VEVENT
BEGIN:VEVENT
DTSTART;VALUE=DATE:20220415
DTEND;VALUE=DATE:20220416
DTSTAMP:20260425T215754
CREATED:20220210T203244Z
LAST-MODIFIED:20220210T203245Z
UID:12587-1649980800-1650067199@scubaguru.org
SUMMARY:Open Water Diver Class Part 1-Pool and Academics
DESCRIPTION:COVID VACCINATED Instructor \nTake the Open Water Diver Class (Part 1)  which is your pool session and academic theory class. Pool session will be done first thing in the morning beginning at 7am at our public pools indoors and 9am at our private pools outdoors and your academic theory will be done online before the pool session date with a scheduled Zoom session review and exam. You will not have to leave the comfort of your own couch to do your academic theory.This is the most popular course on the planet! \nOur classes are deliberately small (no more than 4 people). We do this to increase the learning capacity and student to instructor ratio. You will not be subjected to large quantities of students and mass confusion. \nCOVID-19 Social Distancing and Sanitation Regulations: Because our classes are deliberately small\, we are able to space out our students in the pool to minimize exposure and keep our students safe. Our gear is sanitized after every pool session according to CDC guidelines. Our student’s safety is our top priority. \nWe get you done with part 1 (pool and academics) in just one day!  Some places take two days or drag it out over the course of a month where you have to attend one night a week. This is exhausting and time-consuming. We will not put you through this torture. \n \n 
URL:https://scubaguru.org/nj-padi-scuba-class/open-water-diver-class-part-1-pool-and-academics-apr-15-2022/
LOCATION:Raritan Valley Communty College\, 118 Lamington Rd\, Branchburg\, NJ\, 08876\, United States
CATEGORIES:NJ PADI Non Professional,Scuba Diving Classes
ATTACH;FMTTYPE=image/jpeg:/scuba-media/2019/08/padi-pool-class-featured-image.jpg
ORGANIZER;CN="Guru Staff":MAILTO:info@scubaguru.org
END:VEVENT
BEGIN:VEVENT
DTSTART;VALUE=DATE:20220422
DTEND;VALUE=DATE:20220423
DTSTAMP:20260425T215754
CREATED:20220210T203643Z
LAST-MODIFIED:20220227T211447Z
UID:12589-1650585600-1650671999@scubaguru.org
SUMMARY:Open Water Diver Class Part 1-Pool and Academics
DESCRIPTION:COVID VACCINATED Instructor \nTake the Open Water Diver Class (Part 1)  which is your pool session and academic theory class. Pool session will be done first thing in the morning beginning at 7am at our public pools indoors and 9am at our private pools outdoors and your academic theory will be done online before the pool session date with a scheduled Zoom session review and exam. You will not have to leave the comfort of your own couch to do your academic theory.This is the most popular course on the planet! \nOur classes are deliberately small (no more than 4 people). We do this to increase the learning capacity and student to instructor ratio. You will not be subjected to large quantities of students and mass confusion. \nCOVID-19 Social Distancing and Sanitation Regulations: Because our classes are deliberately small\, we are able to space out our students in the pool to minimize exposure and keep our students safe. Our gear is sanitized after every pool session according to CDC guidelines. Our student’s safety is our top priority. \nWe get you done with part 1 (pool and academics) in just one day!  Some places take two days or drag it out over the course of a month where you have to attend one night a week. This is exhausting and time-consuming. We will not put you through this torture. \n \n 
URL:https://scubaguru.org/nj-padi-scuba-class/open-water-diver-class-part-1-pool-and-academics-apr-22-2022/
LOCATION:Raritan Valley Communty College\, 118 Lamington Rd\, Branchburg\, NJ\, 08876\, United States
CATEGORIES:NJ PADI Non Professional,Scuba Diving Classes
ATTACH;FMTTYPE=image/jpeg:/scuba-media/2019/08/padi-pool-class-featured-image.jpg
ORGANIZER;CN="Guru Staff":MAILTO:info@scubaguru.org
END:VEVENT
BEGIN:VEVENT
DTSTART;VALUE=DATE:20220429
DTEND;VALUE=DATE:20220430
DTSTAMP:20260425T215754
CREATED:20220210T204056Z
LAST-MODIFIED:20220313T195751Z
UID:12591-1651190400-1651276799@scubaguru.org
SUMMARY:Open Water Diver Class Part 1-Pool and Academics
DESCRIPTION:COVID VACCINATED Instructor \nTake the Open Water Diver Class (Part 1)  which is your pool session and academic theory class. Pool session will be done first thing in the morning beginning at 7am at our public pools indoors and 9am at our private pools outdoors and your academic theory will be done online before the pool session date with a scheduled Zoom session review and exam. You will not have to leave the comfort of your own couch to do your academic theory.This is the most popular course on the planet! \nOur classes are deliberately small (no more than 4 people). We do this to increase the learning capacity and student to instructor ratio. You will not be subjected to large quantities of students and mass confusion. \nCOVID-19 Social Distancing and Sanitation Regulations: Because our classes are deliberately small\, we are able to space out our students in the pool to minimize exposure and keep our students safe. Our gear is sanitized after every pool session according to CDC guidelines. Our student’s safety is our top priority. \nWe get you done with part 1 (pool and academics) in just one day!  Some places take two days or drag it out over the course of a month where you have to attend one night a week. This is exhausting and time-consuming. We will not put you through this torture. \n \n 
URL:https://scubaguru.org/nj-padi-scuba-class/open-water-diver-class-part-1-pool-and-academics-apr-29-2022/
LOCATION:Raritan Valley Communty College\, 118 Lamington Rd\, Branchburg\, NJ\, 08876\, United States
CATEGORIES:NJ PADI Non Professional,Scuba Diving Classes
ATTACH;FMTTYPE=image/jpeg:/scuba-media/2019/08/padi-pool-class-featured-image.jpg
ORGANIZER;CN="Guru Staff":MAILTO:info@scubaguru.org
END:VEVENT
END:VCALENDAR