BEGIN:VCALENDAR
VERSION:2.0
PRODID:-//Scuba Diving Classes New Jersey - ECPv6.15.15//NONSGML v1.0//EN
CALSCALE:GREGORIAN
METHOD:PUBLISH
X-ORIGINAL-URL:https://scubaguru.org
X-WR-CALDESC:Events for Scuba Diving Classes New Jersey
REFRESH-INTERVAL;VALUE=DURATION:PT1H
X-Robots-Tag:noindex
X-PUBLISHED-TTL:PT1H
BEGIN:VTIMEZONE
TZID:America/New_York
BEGIN:DAYLIGHT
TZOFFSETFROM:-0500
TZOFFSETTO:-0400
TZNAME:EDT
DTSTART:20210314T070000
END:DAYLIGHT
BEGIN:STANDARD
TZOFFSETFROM:-0400
TZOFFSETTO:-0500
TZNAME:EST
DTSTART:20211107T060000
END:STANDARD
BEGIN:DAYLIGHT
TZOFFSETFROM:-0500
TZOFFSETTO:-0400
TZNAME:EDT
DTSTART:20220313T070000
END:DAYLIGHT
BEGIN:STANDARD
TZOFFSETFROM:-0400
TZOFFSETTO:-0500
TZNAME:EST
DTSTART:20221106T060000
END:STANDARD
BEGIN:DAYLIGHT
TZOFFSETFROM:-0500
TZOFFSETTO:-0400
TZNAME:EDT
DTSTART:20230312T070000
END:DAYLIGHT
BEGIN:STANDARD
TZOFFSETFROM:-0400
TZOFFSETTO:-0500
TZNAME:EST
DTSTART:20231105T060000
END:STANDARD
END:VTIMEZONE
BEGIN:VEVENT
DTSTART;VALUE=DATE:20220902
DTEND;VALUE=DATE:20220903
DTSTAMP:20260425T114525
CREATED:20220801T201816Z
LAST-MODIFIED:20220829T122650Z
UID:12875-1662076800-1662163199@scubaguru.org
SUMMARY:Open Water Diver Class Part 1-Pool and Academics
DESCRIPTION:COVID VACCINATED Instructor \nTake the Open Water Diver Class (Part 1)  which is your pool session and academic theory class. Pool session will be done first thing in the morning beginning at 7am at our public pools indoors and 9am at our private pools outdoors and your academic theory will be done online before the pool session date with a scheduled Zoom session review and exam. You will not have to leave the comfort of your own couch to do your academic theory.This is the most popular course on the planet! \nOur classes are deliberately small (no more than 4 people). We do this to increase the learning capacity and student to instructor ratio. You will not be subjected to large quantities of students and mass confusion. \nCOVID-19 Social Distancing and Sanitation Regulations: Because our classes are deliberately small\, we are able to space out our students in the pool to minimize exposure and keep our students safe. Our gear is sanitized after every pool session according to CDC guidelines. Our student’s safety is our top priority. \nWe get you done with part 1 (pool and academics) in just one day!  Some places take two days or drag it out over the course of a month where you have to attend one night a week. This is exhausting and time-consuming. We will not put you through this torture. \n \n 
URL:https://scubaguru.org/nj-padi-scuba-class/open-water-diver-class-part-1-pool-and-academics-sep-2-2022/
LOCATION:Raritan Valley Communty College\, 118 Lamington Rd\, Branchburg\, NJ\, 08876\, United States
CATEGORIES:NJ PADI Non Professional,Scuba Diving Classes
ATTACH;FMTTYPE=image/jpeg:/scuba-media/2019/08/padi-pool-class-featured-image.jpg
ORGANIZER;CN="Guru Staff":MAILTO:info@scubaguru.org
END:VEVENT
BEGIN:VEVENT
DTSTART;VALUE=DATE:20220907
DTEND;VALUE=DATE:20220909
DTSTAMP:20260425T114525
CREATED:20220801T202239Z
LAST-MODIFIED:20220819T063551Z
UID:12877-1662508800-1662681599@scubaguru.org
SUMMARY:Open Water Diver Class Part 2-Willow Springs
DESCRIPTION:COVID VACCINATED Instructor! This fun filled two days completes your PADI Open Water Diver certification. These two days at Willow Springs\, PA will consist of four dives which is basically repeating the skills you did in your part 1-pool session. You will finally put your skills to the test and achieve the final requirements to achieve the most popular scuba diving certification on planet earth.
URL:https://scubaguru.org/nj-padi-scuba-class/open-water-diver-class-part-2-willow-springs-sep-7-2022/
LOCATION:Willow Springs Park\, 199 Millardsville Rd\, Richland\, PA\, 17087\, United States
CATEGORIES:NJ PADI Non Professional,Scuba Diving Classes
ORGANIZER;CN="Guru Staff":MAILTO:info@scubaguru.org
END:VEVENT
BEGIN:VEVENT
DTSTART;VALUE=DATE:20220909
DTEND;VALUE=DATE:20220910
DTSTAMP:20260425T114525
CREATED:20220801T202845Z
LAST-MODIFIED:20220819T063631Z
UID:12879-1662681600-1662767999@scubaguru.org
SUMMARY:Open Water Diver Class Part 1-Pool and Academics
DESCRIPTION:COVID VACCINATED Instructor \nTake the Open Water Diver Class (Part 1)  which is your pool session and academic theory class. Pool session will be done first thing in the morning beginning at 7am at our public pools indoors and 9am at our private pools outdoors and your academic theory will be done online before the pool session date with a scheduled Zoom session review and exam. You will not have to leave the comfort of your own couch to do your academic theory.This is the most popular course on the planet! \nOur classes are deliberately small (no more than 4 people). We do this to increase the learning capacity and student to instructor ratio. You will not be subjected to large quantities of students and mass confusion. \nCOVID-19 Social Distancing and Sanitation Regulations: Because our classes are deliberately small\, we are able to space out our students in the pool to minimize exposure and keep our students safe. Our gear is sanitized after every pool session according to CDC guidelines. Our student’s safety is our top priority. \nWe get you done with part 1 (pool and academics) in just one day!  Some places take two days or drag it out over the course of a month where you have to attend one night a week. This is exhausting and time-consuming. We will not put you through this torture. \n \n 
URL:https://scubaguru.org/nj-padi-scuba-class/open-water-diver-class-part-1-pool-and-academics-sep-9-2022/
LOCATION:Raritan Valley Communty College\, 118 Lamington Rd\, Branchburg\, NJ\, 08876\, United States
CATEGORIES:NJ PADI Non Professional,Scuba Diving Classes
ATTACH;FMTTYPE=image/jpeg:/scuba-media/2019/08/padi-pool-class-featured-image.jpg
ORGANIZER;CN="Guru Staff":MAILTO:info@scubaguru.org
END:VEVENT
BEGIN:VEVENT
DTSTART;VALUE=DATE:20220913
DTEND;VALUE=DATE:20220915
DTSTAMP:20260425T114525
CREATED:20220801T203205Z
LAST-MODIFIED:20220907T091758Z
UID:12881-1663027200-1663199999@scubaguru.org
SUMMARY:Open Water Diver Class Part 2-Willow Springs
DESCRIPTION:COVID VACCINATED Instructor! This fun filled two days completes your PADI Open Water Diver certification. These two days at Willow Springs\, PA will consist of four dives which is basically repeating the skills you did in your part 1-pool session. You will finally put your skills to the test and achieve the final requirements to achieve the most popular scuba diving certification on planet earth.
URL:https://scubaguru.org/nj-padi-scuba-class/open-water-diver-class-part-2-willow-springs-sep-13-2022/
LOCATION:Willow Springs Park\, 199 Millardsville Rd\, Richland\, PA\, 17087\, United States
CATEGORIES:NJ PADI Non Professional,Scuba Diving Classes
ORGANIZER;CN="Guru Staff":MAILTO:info@scubaguru.org
END:VEVENT
BEGIN:VEVENT
DTSTART;VALUE=DATE:20220916
DTEND;VALUE=DATE:20220917
DTSTAMP:20260425T114525
CREATED:20220801T203833Z
LAST-MODIFIED:20220909T201820Z
UID:12883-1663286400-1663372799@scubaguru.org
SUMMARY:Open Water Diver Class Part 1-Pool and Academics
DESCRIPTION:COVID VACCINATED Instructor \nTake the Open Water Diver Class (Part 1)  which is your pool session and academic theory class. Pool session will be done first thing in the morning beginning at 7am at our public pools indoors and 9am at our private pools outdoors and your academic theory will be done online before the pool session date with a scheduled Zoom session review and exam. You will not have to leave the comfort of your own couch to do your academic theory.This is the most popular course on the planet! \nOur classes are deliberately small (no more than 4 people). We do this to increase the learning capacity and student to instructor ratio. You will not be subjected to large quantities of students and mass confusion. \nCOVID-19 Social Distancing and Sanitation Regulations: Because our classes are deliberately small\, we are able to space out our students in the pool to minimize exposure and keep our students safe. Our gear is sanitized after every pool session according to CDC guidelines. Our student’s safety is our top priority. \nWe get you done with part 1 (pool and academics) in just one day!  Some places take two days or drag it out over the course of a month where you have to attend one night a week. This is exhausting and time-consuming. We will not put you through this torture. \n \n 
URL:https://scubaguru.org/nj-padi-scuba-class/open-water-diver-class-part-1-pool-and-academics-sep-16-2022/
LOCATION:Raritan Valley Communty College\, 118 Lamington Rd\, Branchburg\, NJ\, 08876\, United States
CATEGORIES:NJ PADI Non Professional,Scuba Diving Classes
ATTACH;FMTTYPE=image/jpeg:/scuba-media/2019/08/padi-pool-class-featured-image.jpg
ORGANIZER;CN="Guru Staff":MAILTO:info@scubaguru.org
END:VEVENT
BEGIN:VEVENT
DTSTART;VALUE=DATE:20220920
DTEND;VALUE=DATE:20220922
DTSTAMP:20260425T114525
CREATED:20220801T204513Z
LAST-MODIFIED:20220901T192628Z
UID:12885-1663632000-1663804799@scubaguru.org
SUMMARY:Open Water Diver Class Part 2-Willow Springs
DESCRIPTION:COVID VACCINATED Instructor! This fun filled two days completes your PADI Open Water Diver certification. These two days at Willow Springs\, PA will consist of four dives which is basically repeating the skills you did in your part 1-pool session. You will finally put your skills to the test and achieve the final requirements to achieve the most popular scuba diving certification on planet earth.
URL:https://scubaguru.org/nj-padi-scuba-class/open-water-diver-class-part-2-willow-springs-sep-20-2022/
LOCATION:Willow Springs Park\, 199 Millardsville Rd\, Richland\, PA\, 17087\, United States
CATEGORIES:NJ PADI Non Professional,Scuba Diving Classes
ORGANIZER;CN="Guru Staff":MAILTO:info@scubaguru.org
END:VEVENT
BEGIN:VEVENT
DTSTART;VALUE=DATE:20220923
DTEND;VALUE=DATE:20220924
DTSTAMP:20260425T114525
CREATED:20220801T204853Z
LAST-MODIFIED:20220911T164524Z
UID:12887-1663891200-1663977599@scubaguru.org
SUMMARY:Open Water Diver Class Part 1-Pool and Academics
DESCRIPTION:COVID VACCINATED Instructor \nTake the Open Water Diver Class (Part 1)  which is your pool session and academic theory class. Pool session will be done first thing in the morning beginning at 7am at our public pools indoors and 9am at our private pools outdoors and your academic theory will be done online before the pool session date with a scheduled Zoom session review and exam. You will not have to leave the comfort of your own couch to do your academic theory.This is the most popular course on the planet! \nOur classes are deliberately small (no more than 4 people). We do this to increase the learning capacity and student to instructor ratio. You will not be subjected to large quantities of students and mass confusion. \nCOVID-19 Social Distancing and Sanitation Regulations: Because our classes are deliberately small\, we are able to space out our students in the pool to minimize exposure and keep our students safe. Our gear is sanitized after every pool session according to CDC guidelines. Our student’s safety is our top priority. \nWe get you done with part 1 (pool and academics) in just one day!  Some places take two days or drag it out over the course of a month where you have to attend one night a week. This is exhausting and time-consuming. We will not put you through this torture. \n \n 
URL:https://scubaguru.org/nj-padi-scuba-class/open-water-diver-class-part-1-pool-and-academics-sep-23-2022/
LOCATION:Raritan Valley Communty College\, 118 Lamington Rd\, Branchburg\, NJ\, 08876\, United States
CATEGORIES:NJ PADI Non Professional,Scuba Diving Classes
ATTACH;FMTTYPE=image/jpeg:/scuba-media/2019/08/padi-pool-class-featured-image.jpg
ORGANIZER;CN="Guru Staff":MAILTO:info@scubaguru.org
END:VEVENT
BEGIN:VEVENT
DTSTART;VALUE=DATE:20220927
DTEND;VALUE=DATE:20220929
DTSTAMP:20260425T114525
CREATED:20220801T205217Z
LAST-MODIFIED:20220911T164452Z
UID:12889-1664236800-1664409599@scubaguru.org
SUMMARY:Open Water Diver Class Part 2-Willow Springs
DESCRIPTION:COVID VACCINATED Instructor! This fun filled two days completes your PADI Open Water Diver certification. These two days at Willow Springs\, PA will consist of four dives which is basically repeating the skills you did in your part 1-pool session. You will finally put your skills to the test and achieve the final requirements to achieve the most popular scuba diving certification on planet earth.
URL:https://scubaguru.org/nj-padi-scuba-class/open-water-diver-class-part-2-willow-springs-sep-27-2022/
LOCATION:Willow Springs Park\, 199 Millardsville Rd\, Richland\, PA\, 17087\, United States
CATEGORIES:NJ PADI Non Professional,Scuba Diving Classes
ORGANIZER;CN="Guru Staff":MAILTO:info@scubaguru.org
END:VEVENT
BEGIN:VEVENT
DTSTART;VALUE=DATE:20220930
DTEND;VALUE=DATE:20221001
DTSTAMP:20260425T114525
CREATED:20220801T205650Z
LAST-MODIFIED:20220801T205650Z
UID:12891-1664496000-1664582399@scubaguru.org
SUMMARY:Open Water Diver Class Part 1-Pool and Academics
DESCRIPTION:COVID VACCINATED Instructor \nTake the Open Water Diver Class (Part 1)  which is your pool session and academic theory class. Pool session will be done first thing in the morning beginning at 7am at our public pools indoors and 9am at our private pools outdoors and your academic theory will be done online before the pool session date with a scheduled Zoom session review and exam. You will not have to leave the comfort of your own couch to do your academic theory.This is the most popular course on the planet! \nOur classes are deliberately small (no more than 4 people). We do this to increase the learning capacity and student to instructor ratio. You will not be subjected to large quantities of students and mass confusion. \nCOVID-19 Social Distancing and Sanitation Regulations: Because our classes are deliberately small\, we are able to space out our students in the pool to minimize exposure and keep our students safe. Our gear is sanitized after every pool session according to CDC guidelines. Our student’s safety is our top priority. \nWe get you done with part 1 (pool and academics) in just one day!  Some places take two days or drag it out over the course of a month where you have to attend one night a week. This is exhausting and time-consuming. We will not put you through this torture. \n \n 
URL:https://scubaguru.org/nj-padi-scuba-class/open-water-diver-class-part-1-pool-and-academics-sep-30-2022/
LOCATION:Raritan Valley Communty College\, 118 Lamington Rd\, Branchburg\, NJ\, 08876\, United States
CATEGORIES:NJ PADI Non Professional,Scuba Diving Classes
ATTACH;FMTTYPE=image/jpeg:/scuba-media/2019/08/padi-pool-class-featured-image.jpg
ORGANIZER;CN="Guru Staff":MAILTO:info@scubaguru.org
END:VEVENT
END:VCALENDAR