BEGIN:VCALENDAR
VERSION:2.0
PRODID:-//Scuba Diving Classes New Jersey - ECPv6.15.15//NONSGML v1.0//EN
CALSCALE:GREGORIAN
METHOD:PUBLISH
X-WR-CALNAME:Scuba Diving Classes New Jersey
X-ORIGINAL-URL:https://scubaguru.org
X-WR-CALDESC:Events for Scuba Diving Classes New Jersey
REFRESH-INTERVAL;VALUE=DURATION:PT1H
X-Robots-Tag:noindex
X-PUBLISHED-TTL:PT1H
BEGIN:VTIMEZONE
TZID:America/New_York
BEGIN:DAYLIGHT
TZOFFSETFROM:-0500
TZOFFSETTO:-0400
TZNAME:EDT
DTSTART:20220313T070000
END:DAYLIGHT
BEGIN:STANDARD
TZOFFSETFROM:-0400
TZOFFSETTO:-0500
TZNAME:EST
DTSTART:20221106T060000
END:STANDARD
BEGIN:DAYLIGHT
TZOFFSETFROM:-0500
TZOFFSETTO:-0400
TZNAME:EDT
DTSTART:20230312T070000
END:DAYLIGHT
BEGIN:STANDARD
TZOFFSETFROM:-0400
TZOFFSETTO:-0500
TZNAME:EST
DTSTART:20231105T060000
END:STANDARD
BEGIN:DAYLIGHT
TZOFFSETFROM:-0500
TZOFFSETTO:-0400
TZNAME:EDT
DTSTART:20240310T070000
END:DAYLIGHT
BEGIN:STANDARD
TZOFFSETFROM:-0400
TZOFFSETTO:-0500
TZNAME:EST
DTSTART:20241103T060000
END:STANDARD
END:VTIMEZONE
BEGIN:VEVENT
DTSTART;VALUE=DATE:20231201
DTEND;VALUE=DATE:20231202
DTSTAMP:20260424T071017
CREATED:20231012T193148Z
LAST-MODIFIED:20231012T193150Z
UID:13631-1701388800-1701475199@scubaguru.org
SUMMARY:Open Water Diver Class Part 1-Pool and Academics
DESCRIPTION:COVID VACCINATED Instructor \nTake the Open Water Diver Class (Part 1)  which is your pool session and academic theory class. Pool session will be done first thing in the morning beginning at 7am at our public pools indoors and 9am at our private pools outdoors and your academic theory will be done online before the pool session date with a scheduled Zoom session review and exam. You will not have to leave the comfort of your own couch to do your academic theory.This is the most popular course on the planet! \nOur classes are deliberately small (no more than 4 people). We do this to increase the learning capacity and student to instructor ratio. You will not be subjected to large quantities of students and mass confusion. \nCOVID-19 Social Distancing and Sanitation Regulations: Because our classes are deliberately small\, we are able to space out our students in the pool to minimize exposure and keep our students safe. Our gear is sanitized after every pool session according to CDC guidelines. Our student’s safety is our top priority. \nWe get you done with part 1 (pool and academics) in just one day!  Some places take two days or drag it out over the course of a month where you have to attend one night a week. This is exhausting and time-consuming. We will not put you through this torture. \n \n 
URL:https://scubaguru.org/nj-padi-scuba-class/open-water-diver-class-part-1-pool-and-academics-dec-1-2023/
LOCATION:Raritan Valley Communty College\, 118 Lamington Rd\, Branchburg\, NJ\, 08876\, United States
CATEGORIES:NJ PADI Non Professional,Scuba Diving Classes
ATTACH;FMTTYPE=image/jpeg:/scuba-media/2019/08/padi-pool-class-featured-image.jpg
ORGANIZER;CN="Guru Staff":MAILTO:info@scubaguru.org
END:VEVENT
BEGIN:VEVENT
DTSTART;VALUE=DATE:20231208
DTEND;VALUE=DATE:20231209
DTSTAMP:20260424T071017
CREATED:20231012T193522Z
LAST-MODIFIED:20231012T193523Z
UID:13633-1701993600-1702079999@scubaguru.org
SUMMARY:Open Water Diver Class Part 1-Pool and Academics
DESCRIPTION:COVID VACCINATED Instructor \nTake the Open Water Diver Class (Part 1)  which is your pool session and academic theory class. Pool session will be done first thing in the morning beginning at 7am at our public pools indoors and 9am at our private pools outdoors and your academic theory will be done online before the pool session date with a scheduled Zoom session review and exam. You will not have to leave the comfort of your own couch to do your academic theory.This is the most popular course on the planet! \nOur classes are deliberately small (no more than 4 people). We do this to increase the learning capacity and student to instructor ratio. You will not be subjected to large quantities of students and mass confusion. \nCOVID-19 Social Distancing and Sanitation Regulations: Because our classes are deliberately small\, we are able to space out our students in the pool to minimize exposure and keep our students safe. Our gear is sanitized after every pool session according to CDC guidelines. Our student’s safety is our top priority. \nWe get you done with part 1 (pool and academics) in just one day!  Some places take two days or drag it out over the course of a month where you have to attend one night a week. This is exhausting and time-consuming. We will not put you through this torture. \n \n 
URL:https://scubaguru.org/nj-padi-scuba-class/open-water-diver-class-part-1-pool-and-academics-dec-8-2023/
LOCATION:Raritan Valley Communty College\, 118 Lamington Rd\, Branchburg\, NJ\, 08876\, United States
CATEGORIES:NJ PADI Non Professional,Scuba Diving Classes
ATTACH;FMTTYPE=image/jpeg:/scuba-media/2019/08/padi-pool-class-featured-image.jpg
ORGANIZER;CN="Guru Staff":MAILTO:info@scubaguru.org
END:VEVENT
BEGIN:VEVENT
DTSTART;VALUE=DATE:20231215
DTEND;VALUE=DATE:20231216
DTSTAMP:20260424T071017
CREATED:20231012T193829Z
LAST-MODIFIED:20231012T193830Z
UID:13635-1702598400-1702684799@scubaguru.org
SUMMARY:Open Water Diver Class Part 1-Pool and Academics
DESCRIPTION:COVID VACCINATED Instructor \nTake the Open Water Diver Class (Part 1)  which is your pool session and academic theory class. Pool session will be done first thing in the morning beginning at 7am at our public pools indoors and 9am at our private pools outdoors and your academic theory will be done online before the pool session date with a scheduled Zoom session review and exam. You will not have to leave the comfort of your own couch to do your academic theory.This is the most popular course on the planet! \nOur classes are deliberately small (no more than 4 people). We do this to increase the learning capacity and student to instructor ratio. You will not be subjected to large quantities of students and mass confusion. \nCOVID-19 Social Distancing and Sanitation Regulations: Because our classes are deliberately small\, we are able to space out our students in the pool to minimize exposure and keep our students safe. Our gear is sanitized after every pool session according to CDC guidelines. Our student’s safety is our top priority. \nWe get you done with part 1 (pool and academics) in just one day!  Some places take two days or drag it out over the course of a month where you have to attend one night a week. This is exhausting and time-consuming. We will not put you through this torture. \n \n 
URL:https://scubaguru.org/nj-padi-scuba-class/open-water-diver-class-part-1-pool-and-academics-dec-15-2023/
LOCATION:Raritan Valley Communty College\, 118 Lamington Rd\, Branchburg\, NJ\, 08876\, United States
CATEGORIES:NJ PADI Non Professional,Scuba Diving Classes
ATTACH;FMTTYPE=image/jpeg:/scuba-media/2019/08/padi-pool-class-featured-image.jpg
ORGANIZER;CN="Guru Staff":MAILTO:info@scubaguru.org
END:VEVENT
BEGIN:VEVENT
DTSTART;VALUE=DATE:20231222
DTEND;VALUE=DATE:20231223
DTSTAMP:20260424T071017
CREATED:20231012T194126Z
LAST-MODIFIED:20231205T151402Z
UID:13637-1703203200-1703289599@scubaguru.org
SUMMARY:Open Water Diver Class Part 1-Pool and Academics
DESCRIPTION:COVID VACCINATED Instructor \nTake the Open Water Diver Class (Part 1)  which is your pool session and academic theory class. Pool session will be done first thing in the morning beginning at 7am at our public pools indoors and 9am at our private pools outdoors and your academic theory will be done online before the pool session date with a scheduled Zoom session review and exam. You will not have to leave the comfort of your own couch to do your academic theory.This is the most popular course on the planet! \nOur classes are deliberately small (no more than 4 people). We do this to increase the learning capacity and student to instructor ratio. You will not be subjected to large quantities of students and mass confusion. \nCOVID-19 Social Distancing and Sanitation Regulations: Because our classes are deliberately small\, we are able to space out our students in the pool to minimize exposure and keep our students safe. Our gear is sanitized after every pool session according to CDC guidelines. Our student’s safety is our top priority. \nWe get you done with part 1 (pool and academics) in just one day!  Some places take two days or drag it out over the course of a month where you have to attend one night a week. This is exhausting and time-consuming. We will not put you through this torture. \n \n 
URL:https://scubaguru.org/nj-padi-scuba-class/open-water-diver-class-part-1-pool-and-academics-dec-22-2023/
LOCATION:Raritan Valley Communty College\, 118 Lamington Rd\, Branchburg\, NJ\, 08876\, United States
CATEGORIES:NJ PADI Non Professional,Scuba Diving Classes
ATTACH;FMTTYPE=image/jpeg:/scuba-media/2019/08/padi-pool-class-featured-image.jpg
ORGANIZER;CN="Guru Staff":MAILTO:info@scubaguru.org
END:VEVENT
BEGIN:VEVENT
DTSTART;VALUE=DATE:20231229
DTEND;VALUE=DATE:20231230
DTSTAMP:20260424T071017
CREATED:20231012T194413Z
LAST-MODIFIED:20231012T194415Z
UID:13639-1703808000-1703894399@scubaguru.org
SUMMARY:Open Water Diver Class Part 1-Pool and Academics
DESCRIPTION:COVID VACCINATED Instructor \nTake the Open Water Diver Class (Part 1)  which is your pool session and academic theory class. Pool session will be done first thing in the morning beginning at 7am at our public pools indoors and 9am at our private pools outdoors and your academic theory will be done online before the pool session date with a scheduled Zoom session review and exam. You will not have to leave the comfort of your own couch to do your academic theory.This is the most popular course on the planet! \nOur classes are deliberately small (no more than 4 people). We do this to increase the learning capacity and student to instructor ratio. You will not be subjected to large quantities of students and mass confusion. \nCOVID-19 Social Distancing and Sanitation Regulations: Because our classes are deliberately small\, we are able to space out our students in the pool to minimize exposure and keep our students safe. Our gear is sanitized after every pool session according to CDC guidelines. Our student’s safety is our top priority. \nWe get you done with part 1 (pool and academics) in just one day!  Some places take two days or drag it out over the course of a month where you have to attend one night a week. This is exhausting and time-consuming. We will not put you through this torture. \n \n 
URL:https://scubaguru.org/nj-padi-scuba-class/open-water-diver-class-part-1-pool-and-academics-dec-29-2023/
LOCATION:Raritan Valley Communty College\, 118 Lamington Rd\, Branchburg\, NJ\, 08876\, United States
CATEGORIES:NJ PADI Non Professional,Scuba Diving Classes
ATTACH;FMTTYPE=image/jpeg:/scuba-media/2019/08/padi-pool-class-featured-image.jpg
ORGANIZER;CN="Guru Staff":MAILTO:info@scubaguru.org
END:VEVENT
END:VCALENDAR