BEGIN:VCALENDAR
VERSION:2.0
PRODID:-//Scuba Diving Classes New Jersey - ECPv6.15.15//NONSGML v1.0//EN
CALSCALE:GREGORIAN
METHOD:PUBLISH
X-WR-CALNAME:Scuba Diving Classes New Jersey
X-ORIGINAL-URL:https://scubaguru.org
X-WR-CALDESC:Events for Scuba Diving Classes New Jersey
REFRESH-INTERVAL;VALUE=DURATION:PT1H
X-Robots-Tag:noindex
X-PUBLISHED-TTL:PT1H
BEGIN:VTIMEZONE
TZID:America/New_York
BEGIN:DAYLIGHT
TZOFFSETFROM:-0500
TZOFFSETTO:-0400
TZNAME:EDT
DTSTART:20230312T070000
END:DAYLIGHT
BEGIN:STANDARD
TZOFFSETFROM:-0400
TZOFFSETTO:-0500
TZNAME:EST
DTSTART:20231105T060000
END:STANDARD
BEGIN:DAYLIGHT
TZOFFSETFROM:-0500
TZOFFSETTO:-0400
TZNAME:EDT
DTSTART:20240310T070000
END:DAYLIGHT
BEGIN:STANDARD
TZOFFSETFROM:-0400
TZOFFSETTO:-0500
TZNAME:EST
DTSTART:20241103T060000
END:STANDARD
BEGIN:DAYLIGHT
TZOFFSETFROM:-0500
TZOFFSETTO:-0400
TZNAME:EDT
DTSTART:20250309T070000
END:DAYLIGHT
BEGIN:STANDARD
TZOFFSETFROM:-0400
TZOFFSETTO:-0500
TZNAME:EST
DTSTART:20251102T060000
END:STANDARD
END:VTIMEZONE
BEGIN:VEVENT
DTSTART;VALUE=DATE:20240503
DTEND;VALUE=DATE:20240504
DTSTAMP:20260423T221712
CREATED:20240315T223221Z
LAST-MODIFIED:20240315T223222Z
UID:13763-1714694400-1714780799@scubaguru.org
SUMMARY:Open Water Diver Class Part 1-Pool and Academics
DESCRIPTION:COVID VACCINATED Instructor \nTake the Open Water Diver Class (Part 1)  which is your pool session and academic theory class. Pool session will be done first thing in the morning beginning at 7am at our public pools indoors and 9am at our private pools outdoors and your academic theory will be done online before the pool session date with a scheduled Zoom session review and exam. You will not have to leave the comfort of your own couch to do your academic theory.This is the most popular course on the planet! \nOur classes are deliberately small (no more than 4 people). We do this to increase the learning capacity and student to instructor ratio. You will not be subjected to large quantities of students and mass confusion. \nCOVID-19 Social Distancing and Sanitation Regulations: Because our classes are deliberately small\, we are able to space out our students in the pool to minimize exposure and keep our students safe. Our gear is sanitized after every pool session according to CDC guidelines. Our student’s safety is our top priority. \nWe get you done with part 1 (pool and academics) in just one day!  Some places take two days or drag it out over the course of a month where you have to attend one night a week. This is exhausting and time-consuming. We will not put you through this torture. \n \n 
URL:https://scubaguru.org/nj-padi-scuba-class/open-water-diver-class-part-1-pool-and-academics-may-3-2024/
LOCATION:Raritan Valley Communty College\, 118 Lamington Rd\, Branchburg\, NJ\, 08876\, United States
CATEGORIES:NJ PADI Non Professional,Scuba Diving Classes
ATTACH;FMTTYPE=image/jpeg:/scuba-media/2019/08/padi-pool-class-featured-image.jpg
ORGANIZER;CN="Guru Staff":MAILTO:info@scubaguru.org
END:VEVENT
BEGIN:VEVENT
DTSTART;VALUE=DATE:20240510
DTEND;VALUE=DATE:20240511
DTSTAMP:20260423T221712
CREATED:20240315T223647Z
LAST-MODIFIED:20240405T140331Z
UID:13765-1715299200-1715385599@scubaguru.org
SUMMARY:Open Water Diver Class Part 1-Pool and Academics
DESCRIPTION:COVID VACCINATED Instructor \nTake the Open Water Diver Class (Part 1)  which is your pool session and academic theory class. Pool session will be done first thing in the morning beginning at 7am at our public pools indoors and 9am at our private pools outdoors and your academic theory will be done online before the pool session date with a scheduled Zoom session review and exam. You will not have to leave the comfort of your own couch to do your academic theory.This is the most popular course on the planet! \nOur classes are deliberately small (no more than 4 people). We do this to increase the learning capacity and student to instructor ratio. You will not be subjected to large quantities of students and mass confusion. \nCOVID-19 Social Distancing and Sanitation Regulations: Because our classes are deliberately small\, we are able to space out our students in the pool to minimize exposure and keep our students safe. Our gear is sanitized after every pool session according to CDC guidelines. Our student’s safety is our top priority. \nWe get you done with part 1 (pool and academics) in just one day!  Some places take two days or drag it out over the course of a month where you have to attend one night a week. This is exhausting and time-consuming. We will not put you through this torture. \n \n 
URL:https://scubaguru.org/nj-padi-scuba-class/open-water-diver-class-part-1-pool-and-academics-may-10-2024/
LOCATION:Raritan Valley Communty College\, 118 Lamington Rd\, Branchburg\, NJ\, 08876\, United States
CATEGORIES:NJ PADI Non Professional,Scuba Diving Classes
ATTACH;FMTTYPE=image/jpeg:/scuba-media/2019/08/padi-pool-class-featured-image.jpg
ORGANIZER;CN="Guru Staff":MAILTO:info@scubaguru.org
END:VEVENT
BEGIN:VEVENT
DTSTART;VALUE=DATE:20240514
DTEND;VALUE=DATE:20240516
DTSTAMP:20260423T221712
CREATED:20240328T184753Z
LAST-MODIFIED:20240328T185307Z
UID:13774-1715644800-1715817599@scubaguru.org
SUMMARY:Open Water Diver Class Part 2-Lake Hydra
DESCRIPTION:This fun filled two days completes your PADI Open Water Diver certification. These two days at Lake Hydra will consist of four dives which is basically repeating the skills you did in your part 1-pool session. You will finally put your skills to the test and achieve the final requirements to achieve the most popular scuba diving certification on planet earth.
URL:https://scubaguru.org/nj-padi-scuba-class/open-water-diver-class-part-2-lake-hydra-may-14-2024/
LOCATION:Lake Hydra Scuba\, 4733 Hanoverville Rd\, Bethlehem\, 18020\, United States
CATEGORIES:NJ PADI Non Professional,Scuba Diving Classes
ORGANIZER;CN="Guru Staff":MAILTO:info@scubaguru.org
END:VEVENT
BEGIN:VEVENT
DTSTART;VALUE=DATE:20240517
DTEND;VALUE=DATE:20240518
DTSTAMP:20260423T221712
CREATED:20240315T224023Z
LAST-MODIFIED:20240507T175338Z
UID:13767-1715904000-1715990399@scubaguru.org
SUMMARY:Open Water Diver Class Part 1-Pool and Academics
DESCRIPTION:COVID VACCINATED Instructor \nTake the Open Water Diver Class (Part 1)  which is your pool session and academic theory class. Pool session will be done first thing in the morning beginning at 7am at our public pools indoors and 9am at our private pools outdoors and your academic theory will be done online before the pool session date with a scheduled Zoom session review and exam. You will not have to leave the comfort of your own couch to do your academic theory.This is the most popular course on the planet! \nOur classes are deliberately small (no more than 4 people). We do this to increase the learning capacity and student to instructor ratio. You will not be subjected to large quantities of students and mass confusion. \nCOVID-19 Social Distancing and Sanitation Regulations: Because our classes are deliberately small\, we are able to space out our students in the pool to minimize exposure and keep our students safe. Our gear is sanitized after every pool session according to CDC guidelines. Our student’s safety is our top priority. \nWe get you done with part 1 (pool and academics) in just one day!  Some places take two days or drag it out over the course of a month where you have to attend one night a week. This is exhausting and time-consuming. We will not put you through this torture. \n \n 
URL:https://scubaguru.org/nj-padi-scuba-class/open-water-diver-class-part-1-pool-and-academics-may-17-2024/
LOCATION:Raritan Valley Communty College\, 118 Lamington Rd\, Branchburg\, NJ\, 08876\, United States
CATEGORIES:NJ PADI Non Professional,Scuba Diving Classes
ATTACH;FMTTYPE=image/jpeg:/scuba-media/2019/08/padi-pool-class-featured-image.jpg
ORGANIZER;CN="Guru Staff":MAILTO:info@scubaguru.org
END:VEVENT
BEGIN:VEVENT
DTSTART;VALUE=DATE:20240521
DTEND;VALUE=DATE:20240523
DTSTAMP:20260423T221712
CREATED:20240328T185212Z
LAST-MODIFIED:20240405T134708Z
UID:13776-1716249600-1716422399@scubaguru.org
SUMMARY:Open Water Diver Class Part 2-Lake Hydra
DESCRIPTION:This fun filled two days completes your PADI Open Water Diver certification. These two days at Lake Hydra will consist of four dives which is basically repeating the skills you did in your part 1-pool session. You will finally put your skills to the test and achieve the final requirements to achieve the most popular scuba diving certification on planet earth.
URL:https://scubaguru.org/nj-padi-scuba-class/open-water-diver-class-part-2-lake-hydra-may-21-2024/
LOCATION:Lake Hydra Scuba\, 4733 Hanoverville Rd\, Bethlehem\, 18020\, United States
CATEGORIES:NJ PADI Non Professional,Scuba Diving Classes
ORGANIZER;CN="Guru Staff":MAILTO:info@scubaguru.org
END:VEVENT
BEGIN:VEVENT
DTSTART;VALUE=DATE:20240524
DTEND;VALUE=DATE:20240525
DTSTAMP:20260423T221712
CREATED:20240315T224350Z
LAST-MODIFIED:20240315T224350Z
UID:13769-1716508800-1716595199@scubaguru.org
SUMMARY:Open Water Diver Class Part 1-Pool and Academics
DESCRIPTION:COVID VACCINATED Instructor \nTake the Open Water Diver Class (Part 1)  which is your pool session and academic theory class. Pool session will be done first thing in the morning beginning at 7am at our public pools indoors and 9am at our private pools outdoors and your academic theory will be done online before the pool session date with a scheduled Zoom session review and exam. You will not have to leave the comfort of your own couch to do your academic theory.This is the most popular course on the planet! \nOur classes are deliberately small (no more than 4 people). We do this to increase the learning capacity and student to instructor ratio. You will not be subjected to large quantities of students and mass confusion. \nCOVID-19 Social Distancing and Sanitation Regulations: Because our classes are deliberately small\, we are able to space out our students in the pool to minimize exposure and keep our students safe. Our gear is sanitized after every pool session according to CDC guidelines. Our student’s safety is our top priority. \nWe get you done with part 1 (pool and academics) in just one day!  Some places take two days or drag it out over the course of a month where you have to attend one night a week. This is exhausting and time-consuming. We will not put you through this torture. \n \n 
URL:https://scubaguru.org/nj-padi-scuba-class/open-water-diver-class-part-1-pool-and-academics-may-24-2024/
LOCATION:Raritan Valley Communty College\, 118 Lamington Rd\, Branchburg\, NJ\, 08876\, United States
CATEGORIES:NJ PADI Non Professional,Scuba Diving Classes
ATTACH;FMTTYPE=image/jpeg:/scuba-media/2019/08/padi-pool-class-featured-image.jpg
ORGANIZER;CN="Guru Staff":MAILTO:info@scubaguru.org
END:VEVENT
BEGIN:VEVENT
DTSTART;VALUE=DATE:20240528
DTEND;VALUE=DATE:20240530
DTSTAMP:20260423T221712
CREATED:20240328T190248Z
LAST-MODIFIED:20240405T134745Z
UID:13778-1716854400-1717027199@scubaguru.org
SUMMARY:Open Water Diver Class Part 2-Lake Hydra
DESCRIPTION:This fun filled two days completes your PADI Open Water Diver certification. These two days at Lake Hydra will consist of four dives which is basically repeating the skills you did in your part 1-pool session. You will finally put your skills to the test and achieve the final requirements to achieve the most popular scuba diving certification on planet earth.
URL:https://scubaguru.org/nj-padi-scuba-class/open-water-diver-class-part-2-lake-hydra-may-28-2024/
LOCATION:Lake Hydra Scuba\, 4733 Hanoverville Rd\, Bethlehem\, 18020\, United States
CATEGORIES:NJ PADI Non Professional,Scuba Diving Classes
ORGANIZER;CN="Guru Staff":MAILTO:info@scubaguru.org
END:VEVENT
BEGIN:VEVENT
DTSTART;VALUE=DATE:20240531
DTEND;VALUE=DATE:20240601
DTSTAMP:20260423T221712
CREATED:20240315T224732Z
LAST-MODIFIED:20240315T224734Z
UID:13771-1717113600-1717199999@scubaguru.org
SUMMARY:Open Water Diver Class Part 1-Pool and Academics
DESCRIPTION:COVID VACCINATED Instructor \nTake the Open Water Diver Class (Part 1)  which is your pool session and academic theory class. Pool session will be done first thing in the morning beginning at 7am at our public pools indoors and 9am at our private pools outdoors and your academic theory will be done online before the pool session date with a scheduled Zoom session review and exam. You will not have to leave the comfort of your own couch to do your academic theory.This is the most popular course on the planet! \nOur classes are deliberately small (no more than 4 people). We do this to increase the learning capacity and student to instructor ratio. You will not be subjected to large quantities of students and mass confusion. \nCOVID-19 Social Distancing and Sanitation Regulations: Because our classes are deliberately small\, we are able to space out our students in the pool to minimize exposure and keep our students safe. Our gear is sanitized after every pool session according to CDC guidelines. Our student’s safety is our top priority. \nWe get you done with part 1 (pool and academics) in just one day!  Some places take two days or drag it out over the course of a month where you have to attend one night a week. This is exhausting and time-consuming. We will not put you through this torture. \n \n 
URL:https://scubaguru.org/nj-padi-scuba-class/open-water-diver-class-part-1-pool-and-academics-may-31-2024/
LOCATION:Raritan Valley Communty College\, 118 Lamington Rd\, Branchburg\, NJ\, 08876\, United States
CATEGORIES:NJ PADI Non Professional,Scuba Diving Classes
ATTACH;FMTTYPE=image/jpeg:/scuba-media/2019/08/padi-pool-class-featured-image.jpg
ORGANIZER;CN="Guru Staff":MAILTO:info@scubaguru.org
END:VEVENT
END:VCALENDAR