BEGIN:VCALENDAR
VERSION:2.0
PRODID:-//Scuba Diving Classes New Jersey - ECPv6.15.15//NONSGML v1.0//EN
CALSCALE:GREGORIAN
METHOD:PUBLISH
X-WR-CALNAME:Scuba Diving Classes New Jersey
X-ORIGINAL-URL:https://scubaguru.org
X-WR-CALDESC:Events for Scuba Diving Classes New Jersey
REFRESH-INTERVAL;VALUE=DURATION:PT1H
X-Robots-Tag:noindex
X-PUBLISHED-TTL:PT1H
BEGIN:VTIMEZONE
TZID:America/New_York
BEGIN:DAYLIGHT
TZOFFSETFROM:-0500
TZOFFSETTO:-0400
TZNAME:EDT
DTSTART:20230312T070000
END:DAYLIGHT
BEGIN:STANDARD
TZOFFSETFROM:-0400
TZOFFSETTO:-0500
TZNAME:EST
DTSTART:20231105T060000
END:STANDARD
BEGIN:DAYLIGHT
TZOFFSETFROM:-0500
TZOFFSETTO:-0400
TZNAME:EDT
DTSTART:20240310T070000
END:DAYLIGHT
BEGIN:STANDARD
TZOFFSETFROM:-0400
TZOFFSETTO:-0500
TZNAME:EST
DTSTART:20241103T060000
END:STANDARD
BEGIN:DAYLIGHT
TZOFFSETFROM:-0500
TZOFFSETTO:-0400
TZNAME:EDT
DTSTART:20250309T070000
END:DAYLIGHT
BEGIN:STANDARD
TZOFFSETFROM:-0400
TZOFFSETTO:-0500
TZNAME:EST
DTSTART:20251102T060000
END:STANDARD
END:VTIMEZONE
BEGIN:VEVENT
DTSTART;VALUE=DATE:20240702
DTEND;VALUE=DATE:20240704
DTSTAMP:20260423T171155
CREATED:20240503T195042Z
LAST-MODIFIED:20240612T175300Z
UID:13840-1719878400-1720051199@scubaguru.org
SUMMARY:Open Water Diver Class Part 2-Lake Hydra
DESCRIPTION:This fun filled two days completes your PADI Open Water Diver certification. These two days at Lake Hydra will consist of four dives which is basically repeating the skills you did in your part 1-pool session. You will finally put your skills to the test and achieve the final requirements to achieve the most popular scuba diving certification on planet earth.
URL:https://scubaguru.org/nj-padi-scuba-class/open-water-diver-class-part-2-lake-hydra-jul-2-2024/
LOCATION:Lake Hydra Scuba\, 4733 Hanoverville Rd\, Bethlehem\, 18020\, United States
CATEGORIES:NJ PADI Non Professional,Scuba Diving Classes
ORGANIZER;CN="Guru Staff":MAILTO:info@scubaguru.org
END:VEVENT
BEGIN:VEVENT
DTSTART;VALUE=DATE:20240709
DTEND;VALUE=DATE:20240711
DTSTAMP:20260423T171155
CREATED:20240503T195748Z
LAST-MODIFIED:20240617T230733Z
UID:13844-1720483200-1720655999@scubaguru.org
SUMMARY:Open Water Diver Class Part 2-Lake Hydra
DESCRIPTION:This fun filled two days completes your PADI Open Water Diver certification. These two days at Lake Hydra will consist of four dives which is basically repeating the skills you did in your part 1-pool session. You will finally put your skills to the test and achieve the final requirements to achieve the most popular scuba diving certification on planet earth.
URL:https://scubaguru.org/nj-padi-scuba-class/open-water-diver-class-part-2-lake-hydra-jul-9-2024/
LOCATION:Lake Hydra Scuba\, 4733 Hanoverville Rd\, Bethlehem\, 18020\, United States
CATEGORIES:NJ PADI Non Professional,Scuba Diving Classes
ORGANIZER;CN="Guru Staff":MAILTO:info@scubaguru.org
END:VEVENT
BEGIN:VEVENT
DTSTART;VALUE=DATE:20240712
DTEND;VALUE=DATE:20240713
DTSTAMP:20260423T171155
CREATED:20240503T195451Z
LAST-MODIFIED:20240704T105639Z
UID:13842-1720742400-1720828799@scubaguru.org
SUMMARY:Open Water Diver Class Part 1-Pool and Academics
DESCRIPTION:COVID VACCINATED Instructor \nTake the Open Water Diver Class (Part 1)  which is your pool session and academic theory class. Pool session will be done first thing in the morning beginning at 7am at our public pools indoors and 9am at our private pools outdoors and your academic theory will be done online before the pool session date with a scheduled Zoom session review and exam. You will not have to leave the comfort of your own couch to do your academic theory.This is the most popular course on the planet! \nOur classes are deliberately small (no more than 4 people). We do this to increase the learning capacity and student to instructor ratio. You will not be subjected to large quantities of students and mass confusion. \nCOVID-19 Social Distancing and Sanitation Regulations: Because our classes are deliberately small\, we are able to space out our students in the pool to minimize exposure and keep our students safe. Our gear is sanitized after every pool session according to CDC guidelines. Our student’s safety is our top priority. \nWe get you done with part 1 (pool and academics) in just one day!  Some places take two days or drag it out over the course of a month where you have to attend one night a week. This is exhausting and time-consuming. We will not put you through this torture. \n \n 
URL:https://scubaguru.org/nj-padi-scuba-class/open-water-diver-class-part-1-pool-and-academics-jul-12-2024/
LOCATION:Raritan Valley Communty College\, 118 Lamington Rd\, Branchburg\, NJ\, 08876\, United States
CATEGORIES:NJ PADI Non Professional,Scuba Diving Classes
ATTACH;FMTTYPE=image/jpeg:/scuba-media/2019/08/padi-pool-class-featured-image.jpg
ORGANIZER;CN="Guru Staff":MAILTO:info@scubaguru.org
END:VEVENT
BEGIN:VEVENT
DTSTART;VALUE=DATE:20240716
DTEND;VALUE=DATE:20240718
DTSTAMP:20260423T171155
CREATED:20240503T200435Z
LAST-MODIFIED:20240527T214925Z
UID:13846-1721088000-1721260799@scubaguru.org
SUMMARY:Open Water Diver Class Part 2-Lake Hydra
DESCRIPTION:This fun filled two days completes your PADI Open Water Diver certification. These two days at Lake Hydra will consist of four dives which is basically repeating the skills you did in your part 1-pool session. You will finally put your skills to the test and achieve the final requirements to achieve the most popular scuba diving certification on planet earth.
URL:https://scubaguru.org/nj-padi-scuba-class/open-water-diver-class-part-2-lake-hydra-jul-16-2024/
LOCATION:Lake Hydra Scuba\, 4733 Hanoverville Rd\, Bethlehem\, 18020\, United States
CATEGORIES:NJ PADI Non Professional,Scuba Diving Classes
ORGANIZER;CN="Guru Staff":MAILTO:info@scubaguru.org
END:VEVENT
BEGIN:VEVENT
DTSTART;VALUE=DATE:20240719
DTEND;VALUE=DATE:20240720
DTSTAMP:20260423T171155
CREATED:20240503T200748Z
LAST-MODIFIED:20240703T175812Z
UID:13848-1721347200-1721433599@scubaguru.org
SUMMARY:Open Water Diver Class Part 1-Pool and Academics
DESCRIPTION:COVID VACCINATED Instructor \nTake the Open Water Diver Class (Part 1)  which is your pool session and academic theory class. Pool session will be done first thing in the morning beginning at 7am at our public pools indoors and 9am at our private pools outdoors and your academic theory will be done online before the pool session date with a scheduled Zoom session review and exam. You will not have to leave the comfort of your own couch to do your academic theory.This is the most popular course on the planet! \nOur classes are deliberately small (no more than 4 people). We do this to increase the learning capacity and student to instructor ratio. You will not be subjected to large quantities of students and mass confusion. \nCOVID-19 Social Distancing and Sanitation Regulations: Because our classes are deliberately small\, we are able to space out our students in the pool to minimize exposure and keep our students safe. Our gear is sanitized after every pool session according to CDC guidelines. Our student’s safety is our top priority. \nWe get you done with part 1 (pool and academics) in just one day!  Some places take two days or drag it out over the course of a month where you have to attend one night a week. This is exhausting and time-consuming. We will not put you through this torture. \n \n 
URL:https://scubaguru.org/nj-padi-scuba-class/open-water-diver-class-part-1-pool-and-academics-jul-19-2024/
LOCATION:Raritan Valley Communty College\, 118 Lamington Rd\, Branchburg\, NJ\, 08876\, United States
CATEGORIES:NJ PADI Non Professional,Scuba Diving Classes
ATTACH;FMTTYPE=image/jpeg:/scuba-media/2019/08/padi-pool-class-featured-image.jpg
ORGANIZER;CN="Guru Staff":MAILTO:info@scubaguru.org
END:VEVENT
BEGIN:VEVENT
DTSTART;VALUE=DATE:20240723
DTEND;VALUE=DATE:20240725
DTSTAMP:20260423T171155
CREATED:20240503T201137Z
LAST-MODIFIED:20240703T175841Z
UID:13850-1721692800-1721865599@scubaguru.org
SUMMARY:Open Water Diver Class Part 2-Lake Hydra
DESCRIPTION:This fun filled two days completes your PADI Open Water Diver certification. These two days at Lake Hydra will consist of four dives which is basically repeating the skills you did in your part 1-pool session. You will finally put your skills to the test and achieve the final requirements to achieve the most popular scuba diving certification on planet earth.
URL:https://scubaguru.org/nj-padi-scuba-class/open-water-diver-class-part-2-lake-hydra-jul-23-2024/
LOCATION:Lake Hydra Scuba\, 4733 Hanoverville Rd\, Bethlehem\, 18020\, United States
CATEGORIES:NJ PADI Non Professional,Scuba Diving Classes
ORGANIZER;CN="Guru Staff":MAILTO:info@scubaguru.org
END:VEVENT
BEGIN:VEVENT
DTSTART;VALUE=DATE:20240726
DTEND;VALUE=DATE:20240727
DTSTAMP:20260423T171155
CREATED:20240503T201519Z
LAST-MODIFIED:20240503T201519Z
UID:13852-1721952000-1722038399@scubaguru.org
SUMMARY:Open Water Diver Class Part 1-Pool and Academics
DESCRIPTION:COVID VACCINATED Instructor \nTake the Open Water Diver Class (Part 1)  which is your pool session and academic theory class. Pool session will be done first thing in the morning beginning at 7am at our public pools indoors and 9am at our private pools outdoors and your academic theory will be done online before the pool session date with a scheduled Zoom session review and exam. You will not have to leave the comfort of your own couch to do your academic theory.This is the most popular course on the planet! \nOur classes are deliberately small (no more than 4 people). We do this to increase the learning capacity and student to instructor ratio. You will not be subjected to large quantities of students and mass confusion. \nCOVID-19 Social Distancing and Sanitation Regulations: Because our classes are deliberately small\, we are able to space out our students in the pool to minimize exposure and keep our students safe. Our gear is sanitized after every pool session according to CDC guidelines. Our student’s safety is our top priority. \nWe get you done with part 1 (pool and academics) in just one day!  Some places take two days or drag it out over the course of a month where you have to attend one night a week. This is exhausting and time-consuming. We will not put you through this torture. \n \n 
URL:https://scubaguru.org/nj-padi-scuba-class/open-water-diver-class-part-1-pool-and-academics-jul-26-2024/
LOCATION:Raritan Valley Communty College\, 118 Lamington Rd\, Branchburg\, NJ\, 08876\, United States
CATEGORIES:NJ PADI Non Professional,Scuba Diving Classes
ATTACH;FMTTYPE=image/jpeg:/scuba-media/2019/08/padi-pool-class-featured-image.jpg
ORGANIZER;CN="Guru Staff":MAILTO:info@scubaguru.org
END:VEVENT
BEGIN:VEVENT
DTSTART;VALUE=DATE:20240730
DTEND;VALUE=DATE:20240801
DTSTAMP:20260423T171155
CREATED:20240503T201913Z
LAST-MODIFIED:20240727T123401Z
UID:13854-1722297600-1722470399@scubaguru.org
SUMMARY:Open Water Diver Class Part 2-Lake Hydra
DESCRIPTION:This fun filled two days completes your PADI Open Water Diver certification. These two days at Lake Hydra will consist of four dives which is basically repeating the skills you did in your part 1-pool session. You will finally put your skills to the test and achieve the final requirements to achieve the most popular scuba diving certification on planet earth.
URL:https://scubaguru.org/nj-padi-scuba-class/open-water-diver-class-part-2-lake-hydra-jul-30-2024/
LOCATION:Lake Hydra Scuba\, 4733 Hanoverville Rd\, Bethlehem\, 18020\, United States
CATEGORIES:NJ PADI Non Professional,Scuba Diving Classes
ORGANIZER;CN="Guru Staff":MAILTO:info@scubaguru.org
END:VEVENT
END:VCALENDAR