BEGIN:VCALENDAR
VERSION:2.0
PRODID:-//Scuba Diving Classes New Jersey - ECPv6.15.15//NONSGML v1.0//EN
CALSCALE:GREGORIAN
METHOD:PUBLISH
X-WR-CALNAME:Scuba Diving Classes New Jersey
X-ORIGINAL-URL:https://scubaguru.org
X-WR-CALDESC:Events for Scuba Diving Classes New Jersey
REFRESH-INTERVAL;VALUE=DURATION:PT1H
X-Robots-Tag:noindex
X-PUBLISHED-TTL:PT1H
BEGIN:VTIMEZONE
TZID:America/New_York
BEGIN:DAYLIGHT
TZOFFSETFROM:-0500
TZOFFSETTO:-0400
TZNAME:EDT
DTSTART:20230312T070000
END:DAYLIGHT
BEGIN:STANDARD
TZOFFSETFROM:-0400
TZOFFSETTO:-0500
TZNAME:EST
DTSTART:20231105T060000
END:STANDARD
BEGIN:DAYLIGHT
TZOFFSETFROM:-0500
TZOFFSETTO:-0400
TZNAME:EDT
DTSTART:20240310T070000
END:DAYLIGHT
BEGIN:STANDARD
TZOFFSETFROM:-0400
TZOFFSETTO:-0500
TZNAME:EST
DTSTART:20241103T060000
END:STANDARD
BEGIN:DAYLIGHT
TZOFFSETFROM:-0500
TZOFFSETTO:-0400
TZNAME:EDT
DTSTART:20250309T070000
END:DAYLIGHT
BEGIN:STANDARD
TZOFFSETFROM:-0400
TZOFFSETTO:-0500
TZNAME:EST
DTSTART:20251102T060000
END:STANDARD
END:VTIMEZONE
BEGIN:VEVENT
DTSTART;VALUE=DATE:20240301
DTEND;VALUE=DATE:20240313
DTSTAMP:20260424T101501
CREATED:20230920T132953Z
LAST-MODIFIED:20230920T133238Z
UID:13583-1709251200-1710287999@scubaguru.org
SUMMARY:Truk Lagoon Wreck Diving - Micronesia
DESCRIPTION:Do you really want to say you are a “wreck diver”? Dive the “Mecca of Wreck Diving” with over 60 Japanese ships at the bottom of the ocean from WWII. You will not run out of wrecks to dive. \nTrip Information\nResort: Blue Lagoon Resort: This is an all-inclusive resort \n\n8 days of diving\n3-4 dives a day\nDay diving and marina is a couple steps away from the hotel\nDining hall on-site\n\nRate information: \nCall us to discuss. \n**Airfare is not included \nSign Up Today:\nPlease use feedback form or call us at 908-379-8220 and we will get back to you in record time!
URL:https://scubaguru.org/nj-padi-scuba-class/truk-lagoon-wreck-diving-micronesia-mar-1-2024/
LOCATION:Truk Lagoon\, Chuuk Lagoon\, Micronesia\, Federated States of
CATEGORIES:Trips
ATTACH;FMTTYPE=image/jpeg:/scuba-media/2023/09/Chuuk.jpg
END:VEVENT
END:VCALENDAR